Workbook

Sheet صورت وضعیت
A21: صندوق سرمایه‌گذاری اختصاصی بازارگردانی گروه دی
A22: صورت وضعیت پرتفوی
A23: برای ماه منتهی به 1405/06/31

Sheet سهام
A1: صندوق سرمایه‌گذاری اختصاصی بازارگردانی گروه دی
A2: صورت وضعیت پرتفوی
A3: برای ماه منتهی به 1405/06/31
A4: -1 | B4: سرمایه گذاری ها
A5: -1-1 | C5: سرمایه گذاری در سهام و حق تقدم سهام
E6: 1405/05/31 | L6: تغییرات طی دوره | T6: 1405/06/31
L7: خرید طی دوره | P7: فروش طی دوره
A8: نام شرکت | E8: تعداد | H8: بهای تمام شده | J8: خالص ارزش فروش | L8: تعداد | N8: بهای تمام شده | P8: تعداد | R8: مبلغ فروش | T8: تعداد | V8: قیمت بازار هر سهم | X8: بهای تمام شده | Z8: خالص ارزش فروش | AB8: درصد به کل دارایی ها | AF8: 51623551195821
A9: بانک دی | E9: 8617746158 | H9: 8791172192416 | J9: 1.2296789e+13 | L9: 216000000 | N9: 299161151580 | P9: -561600000 | R9: 858508638493 | T9: 8272146158 | V9: 1686 | X9: 8513000429955 | Z9: 13936238825186 | AB9: =Z9/$AF$8 -> 0.26995893
A10: سرمایه‌گذاری‌بوعلی‌ | E10: 1109610299 | H10: 1720016768469 | J10: 3.1023301e+12 | L10: 17558723 | N10: 55457211496 | P10: -130490000 | R10: 374782513139 | T10: 996679022 | V10: 3590 | X10: 1573040562721 | Z10: 3.5753583e+12 | AB10: =Z10/$AF$8 -> 0.06925828
A11: بیمه دی | E11: 419529468 | H11: 1534363180635 | J11: 2.3308111e+12 | L11: 0 | N11: 0 | P11: 0 | R11: 0 | T11: 419529468 | V11: 6030 | X11: 1534363180635 | Z11: 2.5278401e+12 | AB11: =Z11/$AF$8 -> 0.048966799
A12: تولید نیروی برق دماوند | E12: 454782565 | H12: 4259252203276 | J12: 6.0530999e+12 | L12: 39234162 | N12: 533959770660 | P12: -94849633 | R12: 1265073671363 | T12: 399167094 | V12: 13020 | X12: 3879974369256 | Z12: 5193205725651 | AB12: =Z12/$AF$8 -> 0.10059761
A13: بیمه دانا | E13: 2503649288 | H13: 6273145632683 | J13: 5.5813965e+12 | L13: 87971171 | N13: 211376928526 | P13: -20137292 | R13: 48699098159 | T13: 2571483167 | V13: 2191 | X13: 6434088403982 | Z13: 5629837687986 | AB13: =Z13/$AF$8 -> 0.10905561
A14: حمل و نقل پتروشیمی( سهامی عام | E14: 8812377 | H14: 126779284853 | J14: 1.5409939e+11 | L14: 892615 | N14: 15528959820 | P14: -36669 | R14: 683652093 | T14: 9668323 | V14: 16720 | X14: 141772818615 | Z14: 161531503245 | AB14: =Z14/$AF$8 -> 0.0031290273
A15: جمع | H15: =SUM(H9:H14) -> 22704729262332 | J15: =SUM(J9:J14) -> 2.9518526e+13 | N15: =SUM(N9:N14) -> 1115484022082 | R15: =SUM(R9:R14) -> 2547747573247 | X15: =SUM(X9:X14) -> 22076239765164 | Z15: =SUM(Z9:Z14) -> 3.1024012e+13 | AB15: =SUM(AB9:AB14) -> 0.60096625
N21: =H9+N9-R9 -> 8231824705503
N22: =T9*V9 -> 13946838422388
N23: =Z9-N22 -> -10599597202

Sheet واحدهای صندوق
A1: صندوق سرمایه‌گذاری اختصاصی بازارگردانی گروه دی
A2: صورت وضعیت پرتفوی
A3: برای ماه منتهی به 1405/06/31
A5: -2-1 | B5: سرمایه‌گذاری در واحدهای صندوق های سرمایه گذاری
D6: 1405/05/31 | K6: تغییرات طی دوره | S6: 1405/06/31
K7: خرید/صدور طی دوره | O7: فروش/ابطال طی دوره
A8: صندوق | D8: تعداد واحد | G8: بهای تمام شده | I8: خالص ارزش فروش | K8: تعداد | M8: بهای تمام شده | O8: تعداد | Q8: مبلغ فروش | S8: تعداد | U8: قیمت ابطال / بازار هر واحد | W8: بهای تمام شده | Y8: خالص ارزش فروش | AA8: درصد به کل دارایی ها
A9: ص.س. درآمد ثابت آسمان دامون-د | D9: 57240207 | G9: 1197606058977 | I9: 1.2119005e+12 | K9: 2790438 | M9: 60002582602 | O9: -5957611 | Q9: 127000354929 | S9: 54073034 | U9: 21803 | W9: 1132960751493 | Y9: 1178519620880 | AA9: ='واحدهای صندوق'!Y9/سهام!$AF$8 -> 0.022829108
A10: ص.س.درآمد ثابت آبی هامون-د | D10: 15000000 | G10: 150055312500 | I10: 149944687500 | K10: 0 | M10: 0 | O10: 0 | Q10: 0 | S10: 15000000 | U10: 10345 | W10: 150055312500 | Y10: 155117779218 | AA10: ='واحدهای صندوق'!Y10/سهام!$AF$8 -> 0.0030047871
A11: ص.س.درآمد ثابت ستاره سپهر-د | D11: 11866900 | G11: 250009070858 | I11: 2.5201932e+11 | K11: 0 | M11: 0 | O11: 0 | Q11: 0 | S11: 11866900 | U11: 21856 | W11: 250009070858 | Y11: 259267326306 | AA11: ='واحدهای صندوق'!Y11/سهام!$AF$8 -> 0.0050222683
A12: صندوق س آوای فردای زاگرس-ثابت | D12: 10402608 | G12: 423820324200 | I12: 4.302284e+11 | K12: 0 | M12: 0 | O12: 0 | Q12: 0 | S12: 10402608 | U12: 42593 | W12: 423820324200 | Y12: 442914897427 | AA12: ='واحدهای صندوق'!Y12/سهام!$AF$8 -> 0.0085797061
A13: صندوق س سپر سرمایه بیدار- ثابت | D13: 115999000 | G13: 4662215610197 | I13: 5.2963006e+12 | K13: 0 | M13: 0 | O13: 0 | Q13: 0 | S13: 115999000 | U13: 47040 | W13: 4662215610197 | Y13: 5454580841346 | AA13: ='واحدهای صندوق'!Y13/سهام!$AF$8 -> 0.10566071
A14: صندوق س. ثبات ویستا -د | D14: 32672967 | G14: 1176494848379 | I14: 1.1943445e+12 | K14: 25898469 | M14: 963867480901 | O14: -6837283 | Q14: 255091085740 | S14: 51734153 | U14: 37659 | W14: 1890966616571 | Y14: 1947538048254 | AA14: ='واحدهای صندوق'!Y14/سهام!$AF$8 -> 0.037725767
A15: صندوق س. گنجینه یکم آوید-د | D15: 28130000 | G15: 1169031451432 | I15: 1.1716043e+12 | K15: 0 | M15: 0 | O15: 0 | Q15: 0 | S15: 28130000 | U15: 42847 | W15: 1169031451432 | Y15: 1204841660746 | AA15: ='واحدهای صندوق'!Y15/سهام!$AF$8 -> 0.023338992
A16: صندوق س. نوع دوم نو ویرا -د | D16: 32630466 | G16: 897003123798 | I16: 9.3507263e+11 | K16: 0 | M16: 0 | O16: 0 | Q16: 0 | S16: 32630466 | U16: 29519 | W16: 897003123798 | Y16: 962863538948 | AA16: ='واحدهای صندوق'!Y16/سهام!$AF$8 -> 0.018651633
A17: صندوق س. کارا -د | D17: 7666385 | G17: 243156510719 | I17: 2.7630192e+11 | K17: 5227138 | M17: 188753577602 | O17: -8019313 | Q17: 290230136624 | S17: 4874210 | U17: 37121 | W17: 165302540610 | Y17: 180868829426 | AA17: ='واحدهای صندوق'!Y17/سهام!$AF$8 -> 0.0035036108
A18: صندوق س.پایا ثروت پویا-د | D18: 23703863 | G18: 623700515767 | I18: 6.5123674e+11 | K18: 0 | M18: 0 | O18: -4109229 | Q18: 115948672086 | S18: 19594634 | U18: 28294 | W18: 515523292480 | Y18: 554206135495 | AA18: ='واحدهای صندوق'!Y18/سهام!$AF$8 -> 0.010735529
A19: صندوق س.رشد پایدار آبان-د | D19: 9335324 | G19: 200008359993 | I19: 2.0041149e+11 | K19: 14160002 | M19: 309995742388 | O19: -11430002 | Q19: 251744369696 | S19: 12065324 | U19: 22113 | W19: 260019500942 | Y19: 266702126924 | AA19: ='واحدهای صندوق'!Y19/سهام!$AF$8 -> 0.0051662879
A20: صندوق س.مشترک گنجینه مهر-د | D20: 36430338 | G20: 500020459276 | I20: 5.0204344e+11 | K20: 0 | M20: 0 | O20: 0 | Q20: 0 | S20: 36430338 | U20: 13818 | W20: 500020459276 | Y20: 503208783795 | AA20: ='واحدهای صندوق'!Y20/سهام!$AF$8 -> 0.0097476592
... A26: صندوق س.درآمد ثابت کارآمد-د | D26: 0 | G26: 0 | I26: 0 | K26: 79000000 | M26: 1450055654761 | O26: 0 | Q26: 0 | S26: 79000000 | U26: 18448 | W26: 1450055654761 | Y26: 1456854586700 | AA26: ='واحدهای صندوق'!Y26/سهام!$AF$8 -> 0.028220736
A27: جمع | G27: =SUM(G9:G26) -> 12712204980591 | I27: =SUM(I9:I26) -> 1.3623557e+13 | M27: =SUM(M9:M26) -> 9637757862996 | Q27: =SUM(Q9:Q26) -> 3978257596354 | W27: =SUM(W9:W26) -> 18501672830657 | Y27: =SUM(Y9:Y26) -> 19676543729997 | AA27: =SUM(AA9:AA26) -> 0.3811544

Sheet اوراق
A1: صندوق سرمایه‌گذاری اختصاصی بازارگردانی گروه دی
A2: صورت وضعیت پرتفوی
A3: برای ماه منتهی به 1405/06/31
A5: -3-1 | B5: سرمایه‌گذاری در اوراق بهادار با درآمد ثابت یا علی‌الحساب
A6: اطلاعات اوراق با درآمد ثابت | P6: 1405/05/31 | V6: تغییرات طی دوره | AD6: 1405/06/31
V7: خرید طی دوره | Z7: فروش طی دوره
A8: نام اوراق | D8: دارای مجوز از سازمان | F8: پذیرفته شده در بورس یا فرابورس | H8: تاریخ انتشار اوراق | J8: تاریخ سررسید | L8: نرخ سود اسمی | N8: نرخ سود موثر | P8: تعداد | R8: بهای تمام شده | T8: خالص ارزش فروش | V8: تعداد | X8: بهای تمام شده | Z8: تعداد | AB8: مبلغ فروش | AD8: تعداد | AF8: قیمت بازار هر سهم | AH8: بهای تمام شده | AJ8: خالص ارزش فروش | AL8: درصد به کل دارایی ها
A9: مرابحه عام دولت253-ش.خ070311 | D9: بله | F9: بله | H9: 1404/09/11 | J9: 1407/03/11 | L9: 23 | N9: 23 | P9: 5000 | R9: 4038425737 | T9: 4587621561 | V9: 0 | X9: 0 | Z9: 0 | AB9: 0 | AD9: 5000 | AF9: 890650 | AH9: 4038425737 | AJ9: 4450021393 | AL9: =AJ9/سهام!$AF$8 -> 8.6201381e-05
A10: مرابحه عام دولت198-ش.خ060524 | D10: بله | F10: بله | H10: 1403/11/24 | J10: 1406/05/24 | L10: 23 | N10: 23 | P10: 10000 | R10: 8776007995 | T10: 8789622900 | V10: 0 | X10: 0 | Z10: 0 | AB10: 0 | AD10: 10000 | AF10: 905650 | AH10: 8776007995 | AJ10: 9049934037 | AL10: =AJ10/سهام!$AF$8 -> 0.00017530631
A11: مرابحه عام دولت294-ش.خ070230 | D11: بله | F11: بله | H11: 1405/04/30 | J11: 1407/02/30 | L11: 23 | N11: 23 | P11: 0 | R11: 0 | T11: 0 | V11: 10000 | X11: 9004773730 | Z11: 10000 | AB11: 8722021947 | AD11: 0 | AF11: 0 | AH11: 0 | AJ11: 0 | AL11: =AJ11/سهام!$AF$8 -> 0
A12: مرابحه عام دولت265-ش.خ070430 | D12: بله | F12: بله | H12: 1404/10/30 | J12: 1407/04/30 | L12: 23 | N12: 23 | P12: 0 | R12: 0 | T12: 0 | V12: 6000 | X12: 5014652987 | Z12: 0 | AB12: 0 | AD12: 6000 | AF12: 814700 | AH12: 5014652987 | AJ12: 4884656055 | AL12: =AJ12/سهام!$AF$8 -> 9.462069e-05
A13: جمع | R13: =SUM(R9:R12) -> 12814433732 | T13: =SUM(T9:T12) -> 13377244461 | X13: =SUM(X9:X12) -> 14019426717 | AB13: =SUM(AB9:AB12) -> 8722021947 | AH13: =SUM(AH9:AH12) -> 17829086719 | AJ13: =SUM(AJ9:AJ12) -> 18384611485 | AL13: =SUM(AL9:AL12) -> 0.00035612838

Sheet سپرده
A1: صندوق سرمایه‌گذاری اختصاصی بازارگردانی گروه دی
A2: صورت وضعیت پرتفوی
A3: برای ماه منتهی به 1405/06/31
A5: -4-1 | B5: سرمایه‌گذاری در سپرده‌ بانکی
D6: 1405/05/31 | F6: تغییرات طی دوره | J6: 1405/06/31
A8: سپرده های بانکی | D8: مبلغ | F8: افزایش | H8: کاهش | J8: مبلغ | L8: درصد به کل دارایی ها
A9: حساب جاری بانک دی وزرا | D9: 10000000 | F9: 12313454244 | H9: 12313454244 | J9: 10000000 | L9: =J9/سهام!$AF$8 -> 1.9371004e-07
A10: سپرده کوتاه مدت بانک دی وزرا | D10: 113994715492 | F10: 1697137450614 | H10: 1698245829550 | J10: 112886336556 | L10: =J10/سهام!$AF$8 -> 0.0021867216
A11: سپرده کوتاه مدت بانک دی وزرا | D11: 260251839463 | F11: 424375810256 | H11: 642400558312 | J11: 42227091407 | L11: =J11/سهام!$AF$8 -> 0.00081798114
A12: سپرده کوتاه مدت بانک دی وزرا | D12: 275152665206 | F12: 32806222281 | H12: 32534990657 | J12: 275423896830 | L12: =J12/سهام!$AF$8 -> 0.0053352373
A13: سپرده کوتاه مدت بانک دی وزرا | D13: 404124385424 | F13: 381427873029 | H13: 523380780379 | J13: 262171478074 | L13: =J13/سهام!$AF$8 -> 0.0050785247
A14: حساب جاری بانک دی پارک ساعی | D14: 106938307624 | F14: 2041576264158 | H14: 2145804067282 | J14: 2710504500 | L14: =J14/سهام!$AF$8 -> 5.2505193e-05
A15: حساب جاری بانک دی پارک ساعی | D15: 88154971916 | F15: 52574741770 | H15: 129902328365 | J15: 10827385321 | L15: =J15/سهام!$AF$8 -> 0.00020973732
A16: حساب جاری بانک دی پارک ساعی | D16: 16521672715 | F16: 327313899 | H16: 15328977527 | J16: 1520009087 | L16: =J16/سهام!$AF$8 -> 2.9444102e-05
A17: حساب جاری بانک دی پارک ساعی | D17: 97742961842 | F17: 1594518632228 | H17: 1687071515983 | J17: 5190078087 | L17: =J17/سهام!$AF$8 -> 0.00010053702
A18: جمع | D18: =SUM(D9:D17) -> 1362891519682 | F18: =SUM(F9:F17) -> 6237057762479 | H18: =SUM(H9:H17) -> 6886982502299 | J18: =SUM(J9:J17) -> 712966779862 | L18: =SUM(L9:L17) -> 0.013810882

Sheet درآمد
A1: صندوق سرمایه‌گذاری اختصاصی بازارگردانی گروه دی
A2: صورت وضعیت درآمدها
A3: برای ماه منتهی به 1405/06/31
A5: -2 | B5: درآمد حاصل از سرمایه گذاری ها
A7: شرح | D7: یادداشت | F7: مبلغ | H7: درصد از کل درآمدها | J7: درصد از کل دارایی ها
A8: درآمد حاصل از سرمایه گذاری در سهام و حق تقدم سهام | D8: 1-2 | F8: ='درآمد سرمایه گذاری در سهام'!J15 -> 2939642317903 | H8: =F8/$F$12 -> 0.87735403 | J8: =F8/سهام!$AF$8 -> 0.056943822 | L8: =F8/سهام!AF8 -> 0.056943822
A9: درآمد حاصل از سرمایه گذاری در واحدهای صندوق های سرمایه گذاری | D9: 2-2 | F9: ='درآمد سرمایه گذاری در صندوق'!J29 -> 407423920127 | H9: =F9/$F$12 -> 0.12159813 | J9: =F9/سهام!$AF$8 -> 0.0078922103
A10: درآمد حاصل از سرمایه گذاری در اوراق بهادار با درآمد ثابت | D10: 3-2 | F10: ='درآمد سرمایه گذاری در اوراق به'!J14 -> 99107944 | H10: =F10/$F$12 -> 2.9579365e-05 | J10: =F10/سهام!$AF$8 -> 1.9198203e-06
A11: درآمد حاصل از سرمایه گذاری در سپرده بانکی و گواهی سپرده | D11: 4-2 | F11: ='درآمد سپرده بانکی'!D12 -> 3411756940 | H11: =F11/$F$12 -> 0.0010182595 | J11: =F11/سهام!$AF$8 -> 6.6089156e-05
A12: جمع | F12: =SUM(F8:F11) -> 3350577102914 | H12: =SUM(H8:H11) -> 1 | J12: =SUM(J8:J11) -> 0.064904041

Sheet درآمد سرمایه گذاری در سهام
A1: صندوق سرمایه‌گذاری اختصاصی بازارگردانی گروه دی
A2: صورت وضعیت درآمدها
A3: برای ماه منتهی به 1405/06/31
A5: -1-2 | B5: درآمد حاصل از سرمایه­گذاری در سهام و حق تقدم سهام
D6: طی ماه | N6: از ابتدای سال مالی
J7: جمع | U7: جمع
A8: سهام | D8: درآمد سود سهام | F8: درآمد تغییر ارزش | H8: درآمد فروش | J8: مبلغ | L8: درصد از کل درآمدها | N8: درآمد سود سهام | P8: درآمد تغییر ارزش | S8: درآمد فروش | U8: مبلغ | W8: درصد از کل درآمدها | Y8: 16607742764478
A9: بانک دی | D9: 0 | F9: 1857246008830 | H9: 342204419257 | J9: =F9+H9 -> 2199450428087 | L9: =J9/درآمد!$F$12 -> 0.65643928 | N9: 0 | P9: 6309800384592 | S9: 2087493131481 | U9: =N9+P9+S9 -> 8397293516073 | W9: =U9/$Y$8 -> 0.50562522
A10: سرمایه‌گذاری‌بوعلی‌ | D10: 0 | F10: 691612890971 | H10: 101022858107 | J10: =F10+H10 -> 792635749078 | L10: =J10/درآمد!$F$12 -> 0.23656693 | N10: 335540227800 | P10: 1464531545628 | S10: 126109909342 | U10: =N10+P10+S10 -> 1926181682770 | W10: =U10/$Y$8 -> 0.11598094
A11: حمل و نقل پتروشیمی( سهامی عام) | D11: 0 | F11: -7561423402 | H11: 148746028 | J11: =F11+H11 -> -7412677374 | L11: =J11/درآمد!$F$12 -> -0.0022123584 | N11: 941639880 | P11: 19758684630 | S11: -431264480 | U11: =N11+P11+S11 -> 20269060030 | W11: =U11/$Y$8 -> 0.0012204585
A12: تولید نیروی برق دماوند | D12: 0 | F12: -579210158706 | H12: 451349559524 | J12: =F12+H12 -> -127860599182 | L12: =J12/درآمد!$F$12 -> -0.038160769 | N12: 188605231816 | P12: 1718964026952 | S12: 699538414764 | U12: =N12+P12+S12 -> 2607107673532 | W12: =U12/$Y$8 -> 0.15698146
A13: بیمه دانا | D13: 0 | F13: -125979273563 | H13: 11779696823 | J13: =F13+H13 -> -114199576740 | L13: =J13/درآمد!$F$12 -> -0.034083554 | N13: 0 | P13: 867445964717 | S13: 30562355227 | U13: =N13+P13+S13 -> 898008319944 | W13: =U13/$Y$8 -> 0.054071666
A14: بیمه دی | D14: 0 | F14: 197028994034 | H14: 0 | J14: =F14+H14 -> 197028994034 | L14: =J14/درآمد!$F$12 -> 0.058804495 | N14: 272694154200 | P14: 749875468198 | S14: 10660036320 | U14: =N14+P14+S14 -> 1033229658718 | W14: =U14/$Y$8 -> 0.062213732
A15: جمع | D15: 0 | F15: =SUM(F9:F14) -> 2033137038164 | H15: =SUM(H9:H14) -> 906505279739 | J15: =SUM(J9:J14) -> 2939642317903 | L15: =J15/درآمد!$F$12 -> 0.87735403 | N15: =SUM(N9:N14) -> 797781253696 | Q15: =SUM(P9:Q14) -> 11130376074717 | S15: =SUM(S9:S14) -> 2953932582654 | U15: =SUM(U9:U14) -> 14882089911067 | W15: =SUM(W9:W14) -> 0.89609347

Sheet درآمد سرمایه گذاری در صندوق
A1: صندوق سرمایه‌گذاری اختصاصی بازارگردانی گروه دی
A2: صورت وضعیت درآمدها
A3: برای ماه منتهی به 1405/06/31
A5: -2-2 | B5: درآمد حاصل از سرمایه­گذاری در واحدهای صندوق
D6: طی ماه | N6: از ابتدای سال مالی
J7: جمع | U7: جمع
A8: صندوق | D8: درآمد سود صندوق | F8: درآمد تغییر ارزش | H8: درآمد فروش | J8: مبلغ | L8: درصد از کل درآمدها | N8: درآمد سود صندوق | P8: درآمد تغییر ارزش | S8: درآمد فروش | U8: مبلغ | W8: درصد از کل درآمدها
A9: صندوق س.ثروت افزون فاخر-د | D9: 0 | F9: 2270703415 | H9: 37764762 | J9: =D9+F9+H9 -> 2308468177 | L9: =J9/درآمد!$F$12 -> 0.00068897629 | N9: 0 | P9: 2270703415 | S9: 37764762 | U9: =N9+P9+S9 -> 2308468177 | W9: =U9/'درآمد سرمایه گذاری در سهام'!$Y$8 -> 0.00013899951
A10: صندوق س دی-املاک | D10: 0 | F10: -18279000199 | H10: 15960647604 | J10: =D10+F10+H10 -> -2318352595 | L10: =J10/درآمد!$F$12 -> -0.00069192635 | N10: 0 | P10: 83520179751 | S10: 36836637392 | U10: =N10+P10+S10 -> 120356817143 | W10: =U10/'درآمد سرمایه گذاری در سهام'!$Y$8 -> 0.0072470304
A11: صندوق س.رشد پایدار آبان-د | D11: 0 | F11: 6279496749 | H11: 1852632627 | J11: =D11+F11+H11 -> 8132129376 | L11: =J11/درآمد!$F$12 -> 0.0024270832 | N11: 0 | P11: 6682625982 | S11: 1852632627 | U11: =N11+P11+S11 -> 8535258609 | W11: =U11/'درآمد سرمایه گذاری در سهام'!$Y$8 -> 0.00051393249
A12: صندوق ص.س. درآمد ثابت آسمان دامون-د | D12: 0 | F12: 31264397277 | H12: 2399313367 | J12: =D12+F12+H12 -> 33663710644 | L12: =J12/درآمد!$F$12 -> 0.010047138 | N12: 0 | P12: 45558869388 | S12: 3620052758 | U12: =N12+P12+S12 -> 49178922146 | W12: =U12/'درآمد سرمایه گذاری در سهام'!$Y$8 -> 0.0029612045
A13: صندوق س. کارا -د | D13: 0 | F13: -17579121336 | H13: 23729650502 | J13: =D13+F13+H13 -> 6150529166 | L13: =J13/درآمد!$F$12 -> 0.0018356626 | N13: 0 | P13: 15566288816 | S13: 38109919283 | U13: =N13+P13+S13 -> 53676208099 | W13: =U13/'درآمد سرمایه گذاری در سهام'!$Y$8 -> 0.003231999
A14: صندوق س.دی سهام-سهام | D14: 0 | F14: -42614937638 | H14: 74007835144 | J14: =D14+F14+H14 -> 31392897506 | L14: =J14/درآمد!$F$12 -> 0.0093694001 | N14: 0 | P14: -11348999809 | S14: 198701676696 | U14: =N14+P14+S14 -> 187352676887 | W14: =U14/'درآمد سرمایه گذاری در سهام'!$Y$8 -> 0.011281044
A15: صندوق س.پایا ثروت پویا-د | D15: 0 | F15: 11146620225 | H15: 7814220581 | J15: =D15+F15+H15 -> 18960840806 | L15: =J15/درآمد!$F$12 -> 0.0056589776 | N15: 0 | P15: 38682843015 | S15: 18286791739 | U15: =N15+P15+S15 -> 56969634754 | W15: =U15/'درآمد سرمایه گذاری در سهام'!$Y$8 -> 0.0034303057
A16: صندوق س. ثبات ویستا -د | D16: 0 | F16: 38721799797 | H16: 5789472503 | J16: =D16+F16+H16 -> 44511272300 | L16: =J16/درآمد!$F$12 -> 0.013284658 | N16: 0 | P16: 56571431683 | S16: 7007327945 | U16: =N16+P16+S16 -> 63578759628 | W16: =U16/'درآمد سرمایه گذاری در سهام'!$Y$8 -> 0.0038282601
A17: صندوق س زمرد کوروش-ثابت | D17: 0 | F17: 0 | H17: 0 | J17: =D17+F17+H17 -> 0 | L17: =J17/درآمد!$F$12 -> 0 | N17: 0 | P17: 0 | S17: 3336338376 | U17: =N17+P17+S17 -> 3336338376 | W17: =U17/'درآمد سرمایه گذاری در سهام'!$Y$8 -> 0.00020089054
A18: صندوق س. کامیاب آشنا-د | D18: 0 | F18: 0 | H18: 0 | J18: =D18+F18+H18 -> 0 | L18: =J18/درآمد!$F$12 -> 0 | N18: 0 | P18: 0 | S18: 1564148615 | U18: =N18+P18+S18 -> 1564148615 | W18: =U18/'درآمد سرمایه گذاری در سهام'!$Y$8 -> 9.4181891e-05
A19: صندوق س سپر سرمایه بیدار- ثابت | D19: 0 | F19: 158280247630 | H19: 0 | J19: =D19+F19+H19 -> 158280247630 | L19: =J19/درآمد!$F$12 -> 0.047239697 | N19: 0 | P19: 792365231149 | S19: 137575180239 | U19: =N19+P19+S19 -> 929940411388 | W19: =U19/'درآمد سرمایه گذاری در سهام'!$Y$8 -> 0.055994389
A20: صندوق س آوای فردای زاگرس-ثابت | D20: 0 | F20: 12686501886 | H20: 0 | J20: =D20+F20+H20 -> 12686501886 | L20: =J20/درآمد!$F$12 -> 0.0037863632 | N20: 0 | P20: 19094573226 | S20: 3228967850 | U20: =N20+P20+S20 -> 22323541076 | W20: =U20/'درآمد سرمایه گذاری در سهام'!$Y$8 -> 0.0013441647
... A28: صندوق س. درآمد ثابت آروین-د | D28: 0 | F28: -110624997 | H28: 0 | J28: =D28+F28+H28 -> -110624997 | L28: =J28/درآمد!$F$12 -> -3.3016699e-05 | N28: 0 | P28: -110624997 | S28: 0 | U28: =N28+P28+S28 -> -110624997 | W28: =U28/'درآمد سرمایه گذاری در سهام'!$Y$8 -> -6.6610495e-06
A29: جمع | D29: =SUM(D9:D28) -> 12313454244 | F29: =SUM(F9:F28) -> 263518928793 | H29: =SUM(H9:H28) -> 131591537090 | J29: =SUM(J9:J28) -> 407423920127 | L29: =SUM(L9:L28) -> 0.12159813 | N29: =SUM(N9:N28) -> 12313454244 | Q29: =SUM(P9:Q28) -> 1174870899340 | S29: =SUM(S9:S28) -> 450157438282 | U29: =SUM(U9:U28) -> 1637341791866 | W29: =SUM(W9:W28) -> 0.098589063

Sheet درآمد سرمایه گذاری در اوراق به
A1: صندوق سرمایه‌گذاری اختصاصی بازارگردانی گروه دی
A2: صورت وضعیت درآمدها
A3: برای ماه منتهی به 1405/06/31
A5: -3-2 | B5: درآمد حاصل از سرمایه­گذاری در اوراق بهادار با درآمد ثابت:
D6: طی ماه | L6: از ابتدای سال مالی
A8: عنوان | D8: درآمد سود اوراق | F8: درآمد تغییر ارزش | H8: درآمد فروش | J8: جمع | L8: درآمد سود اوراق | N8: درآمد تغییر ارزش | P8: درآمد فروش | R8: جمع
A9: مرابحه عام دولت294-ش.خ070230 | D9: 5954968 | F9: 0 | H9: -276423730 | J9: =D9+F9+H9 -> -270468762 | L9: 5954968 | N9: 0 | P9: -276423730 | R9: =L9+N9+P9 -> -270468762
A10: مرابحه عام دولت268-ش.خ070521 | D10: 0 | F10: 0 | H10: 0 | J10: =D10+F10+H10 -> 0 | L10: 38151300294 | N10: 0 | P10: 10519785448 | R10: =L10+N10+P10 -> 48671085742
A11: مرابحه عام دولت265-ش.خ070430 | D11: 100177239 | F11: -129996932 | H11: 0 | J11: =D11+F11+H11 -> -29819693 | L11: 100177239 | N11: -129996932 | P11: 0 | R11: =L11+N11+P11 -> -29819693
A12: مرابحه عام دولت253-ش.خ070311 | D12: 98346393 | F12: -137600168 | H12: 0 | J12: =D12+F12+H12 -> -39253775 | L12: 677732465 | N12: 447925018 | P12: 0 | R12: =L12+N12+P12 -> 1125657483
A13: مرابحه عام دولت198-ش.خ060524 | D13: 178339037 | F13: 260311137 | H13: 0 | J13: =D13+F13+H13 -> 438650174 | L13: 954561396 | N13: 273926042 | P13: 0 | R13: =L13+N13+P13 -> 1228487438
A14: جمع | D14: =SUM(D9:D13) -> 382817637 | F14: =SUM(F9:F13) -> -7285963 | H14: =SUM(H9:H13) -> -276423730 | J14: =SUM(J9:J13) -> 99107944 | L14: =SUM(L9:L13) -> 39889726362 | N14: =SUM(N9:N13) -> 591854128 | P14: =SUM(P9:P13) -> 10243361718 | R14: =SUM(R9:R13) -> 50724942208

Sheet درآمد سپرده بانکی
A1: صندوق سرمایه‌گذاری اختصاصی بازارگردانی گروه دی
A2: صورت وضعیت درآمدها
A3: برای ماه منتهی به 1405/06/31
A5: -4-2 | B5: درآمد حاصل از سرمایه­گذاری در سپرده بانکی و گواهی سپرده
D6: طی ماه | H6: از ابتدای سال مالی
A7: نام سپرده بانکی | D7: سود سپرده بانکی و گواهی سپرده | F7: درصد سود به میانگین سپرده | H7: سود سپرده بانکی و گواهی سپرده | J7: درصد سود به میانگین سپرده
A8: سپرده کوتاه مدت بانک دی وزرا | D8: 1306910643 | H8: 5447457378
A9: سپرده کوتاه مدت بانک دی وزرا | D9: 3343496 | H9: 4712530
A10: سپرده کوتاه مدت بانک دی وزرا | D10: 1033873747 | H10: 1936238037
A11: سپرده کوتاه مدت بانک دی وزرا | D11: 1067629054 | H11: 1161072645
A12: جمع | D12: =SUM(D8:D11) -> 3411756940 | H12: =SUM(H8:H11) -> 8549480590

Sheet درآمد سود سهام
A1: صندوق سرمایه‌گذاری اختصاصی بازارگردانی گروه دی
A2: صورت وضعیت درآمدها
A3: برای ماه منتهی به 1405/06/31
A5: درآمد سود سهام
A6: نام سهام | C6: اطلاعات مجمع | I6: طی ماه | O6: از ابتدای سال مالی
C7: تاریخ تشکیل مجمع | E7: تعداد سهام متعلقه در زمان مجمع | G7: سود متعلق به هر سهم | I7: جمع درآمد سود سهام | K7: هزینه تنزیل | M7: خالص درآمد سود سهام | O7: جمع درآمد سود سهام | Q7: هزینه تنزیل | S7: خالص درآمد سود سهام
A8: حمل و نقل پتروشیمی( سهامی عام) | C8: 1405/04/31 | E8: 10125160 | G8: 93 | I8: 0 | K8: 0 | M8: 0 | O8: 1045501439 | Q8: 103861559 | S8: =O8-Q8 -> 941639880
A9: سرمایه‌گذاری‌بوعلی‌ | C9: 1405/03/24 | E9: 1118467426 | G9: 300 | I9: 0 | K9: 0 | M9: 0 | O9: 335540227800 | Q9: 0 | S9: =O9-Q9 -> 335540227800
A10: بیمه دی | C10: 1405/04/10 | E10: 419529468 | G10: 650 | I10: 0 | K10: 0 | M10: 0 | O10: 272694154200 | Q10: 0 | S10: =O10-Q10 -> 272694154200
A11: تولید نیروی برق دماوند | C11: 1405/04/31 | E11: 473882492 | G11: 398 | I11: 0 | K11: 0 | M11: 0 | O11: 209408124539 | Q11: 20802892723 | S11: =O11-Q11 -> 188605231816
A12: جمع | I12: 0 | K12: 0 | M12: 0 | O12: =SUM(O8:O11) -> 818688007978 | Q12: =SUM(Q8:Q11) -> 20906754282 | S12: =SUM(S8:S11) -> 797781253696 | XFD12: =SUM(I12:XFC12) -> 1637376015956

Sheet درآمد سود صندوق
A1: صندوق سرمایه‌گذاری اختصاصی بازارگردانی گروه دی
A2: صورت وضعیت درآمدها
A3: برای ماه منتهی به 1405/06/31
A5: درآمد سود صندوق
I6: طی ماه | K6: از ابتدای سال مالی
A7: نام صندوق | C7: تاریخ تقسیم سود | E7: تعداد واحد صندوق در زمان تقسیم سود | G7: سود متعلق به هر واحد | I7: خالص درآمد سود صندوق | K7: خالص درآمد سود صندوق
A8: صندوق س.مشترک گنجینه مهر-د (آسان1) | C8: 1405/06/01 | E8: 36430338 | G8: 338 | I8: 12313454244 | K8: 12313454244
A9: جمع | I9: =SUM(I8) -> 12313454244 | K9: =SUM(K8) -> 12313454244

Sheet سود اوراق بهادار
A1: صندوق سرمایه‌گذاری اختصاصی بازارگردانی گروه دی
A2: صورت وضعیت درآمدها
A3: برای ماه منتهی به 1405/06/31
A5: سود اوراق بهادار با درآمد ثابت
A6: شرح | J6: طی ماه | P6: از ابتدای سال مالی
C7: تاریخ دریافت سود | E7: تاریخ سررسید | H7: نرخ سود علی الحساب | J7: درآمد سود | L7: هزینه تنزیل | N7: خالص درآمد | P7: درآمد سود | R7: هزینه تنزیل | T7: خالص درآمد
A8: مرابحه عام دولت294-ش.خ070230 | E8: 1407/02/30 | H8: 23 | J8: 5954968 | L8: 0 | N8: 5954968 | P8: 5954968 | R8: 0 | T8: 5954968
A9: مرابحه عام دولت268-ش.خ070521 | E9: 1407/05/21 | H9: 23 | J9: 0 | L9: 0 | N9: 0 | P9: 38151300294 | R9: 0 | T9: 38151300294
A10: مرابحه عام دولت265-ش.خ070430 | E10: 1407/04/30 | H10: 23 | J10: 100177239 | L10: 0 | N10: 100177239 | P10: 100177239 | R10: 0 | T10: 100177239
A11: مرابحه عام دولت253-ش.خ070311 | E11: 1407/03/11 | H11: 23 | J11: 98346393 | L11: 0 | N11: 98346393 | P11: 677732465 | R11: 0 | T11: 677732465
A12: مرابحه عام دولت198-ش.خ060524 | E12: 1406/05/24 | H12: 23 | J12: 178339037 | L12: 0 | N12: 178339037 | P12: 954561396 | R12: 0 | T12: 954561396
A13: جمع | J13: 382817637 | L13: 0 | N13: 382817637 | P13: 39889726362 | R13: 0 | T13: 39889726362

Sheet سود سپرده بانکی
A1: صندوق سرمایه‌گذاری اختصاصی بازارگردانی گروه دی
A2: صورت وضعیت درآمدها
A3: برای ماه منتهی به 1405/06/31
A5: سود سپرده بانکی
A6: شرح | C6: طی ماه | I6: از ابتدای سال مالی
C7: درآمد سود | E7: هزینه تنزیل | G7: خالص درآمد | I7: درآمد سود | K7: هزینه تنزیل | M7: خالص درآمد
A8: سپرده کوتاه مدت بانک دی وزرا | C8: 1306910643 | E8: 0 | G8: 1306910643 | I8: 5447457378 | K8: 0 | M8: 5447457378
A9: سپرده کوتاه مدت بانک دی وزرا | C9: 3343496 | E9: 0 | G9: 3343496 | I9: 4712530 | K9: 0 | M9: 4712530
A10: سپرده کوتاه مدت بانک دی وزرا | C10: 1033873747 | E10: 0 | G10: 1033873747 | I10: 1936238037 | K10: 0 | M10: 1936238037
A11: سپرده کوتاه مدت بانک دی وزرا | C11: 1067629054 | E11: 0 | G11: 1067629054 | I11: 1161072645 | K11: 0 | M11: 1161072645
A12: جمع | C12: =SUM(C8:C11) -> 3411756940 | E12: 0 | G12: =SUM(G8:G11) -> 3411756940 | I12: =SUM(I8:I11) -> 8549480590 | K12: 0 | M12: =SUM(M8:M11) -> 8549480590

Sheet درآمد ناشی از فروش
A1: صندوق سرمایه‌گذاری اختصاصی بازارگردانی گروه دی
A2: صورت وضعیت درآمدها
A3: برای ماه منتهی به 1405/06/31
A5: سود(زیان) حاصل از فروش اوراق بهادار
A6: شرح | C6: طی ماه | K6: از ابتدای سال مالی
C7: تعداد | E7: خالص بهای فروش | G7: ارزش دفتری | I7: سود و زیان ناشی از فروش | K7: تعداد | M7: خالص بهای فروش | O7: ارزش دفتری | Q7: سود و زیان ناشی از فروش
A8: صندوق س.ثروت افزون فاخر-د | C8: 435505 | E8: 11007824380 | G8: 10970059618 | I8: =E8-G8 -> 37764762 | K8: 435505 | M8: 11007824380 | O8: 10970059618 | Q8: =M8-O8 -> 37764762 | S8: =E8-G8 -> 37764762
A9: بانک دی | C9: 561600000 | E9: 859161600000 | G9: 516957180743 | I9: =E9-G9 -> 342204419257 | K9: 5512158067 | M9: 7083346538466 | O9: 4995853406985 | Q9: =M9-O9 -> 2087493131481
A10: سرمایه‌گذاری‌بوعلی‌ | C10: 130490000 | E10: 375064663000 | G10: 274041804893 | I10: =E10-G10 -> 101022858107 | K10: 190505040 | M10: 525942332168 | O10: 399832422826 | Q10: =M10-O10 -> 126109909342
A11: صندوق س دی-املاک | C11: 11645391 | E11: 166367980393 | G11: 150407332789 | I11: =E11-G11 -> 15960647604 | K11: 44100520 | M11: 590934917204 | O11: 554098279812 | Q11: =M11-O11 -> 36836637392
A12: حمل و نقل پتروشیمی( سهامی عام | C12: 36669 | E12: 684172050 | G12: 535426022 | I12: =E12-G12 -> 148746028 | K12: 1413219 | M12: 19906303650 | O12: 20337568130 | Q12: =M12-O12 -> -431264480
A13: صندوق س.رشد پایدار آبان-د | C13: 11430002 | E13: 251837234066 | G13: 249984601439 | I13: =E13-G13 -> 1852632627 | K13: 11430002 | M13: 251837234066 | O13: 249984601439 | Q13: =M13-O13 -> 1852632627
A14: صندوق ص.س. درآمد ثابت آسمان دامون-د | C14: 5957611 | E14: 127047203453 | G14: 124647890086 | I14: =E14-G14 -> 2399313367 | K14: 12355917 | M14: 262136257343 | O14: 258516204585 | Q14: =M14-O14 -> 3620052758
A15: صندوق س. کارا -د | C15: 8019313 | E15: 290337198213 | G15: 266607547711 | I15: =E15-G15 -> 23729650502 | K15: 17596115 | M15: 605217049606 | O15: 567107130323 | Q15: =M15-O15 -> 38109919283
A16: تولید نیروی برق دماوند | C16: 94849633 | E16: 1265993356060 | G16: 814643796536 | I16: =E16-G16 -> 451349559524 | K16: 201716829 | M16: 2384296417280 | O16: 1684758002516 | Q16: =M16-O16 -> 699538414764
A17: بیمه دانا | C17: 20137292 | E17: 48736137376 | G17: 36956440553 | I17: =E17-G17 -> 11779696823 | K17: 95546814 | M17: 204807228888 | O17: 174244873661 | Q17: =M17-O17 -> 30562355227
A18: صندوق س.دی سهام-سهام | C18: 105694228 | E18: 2762107480158 | G18: 2688099645014 | I18: =E18-G18 -> 74007835144 | K18: 344985965 | M18: 6987261514718 | O18: 6788559838022 | Q18: =M18-O18 -> 198701676696
A19: صندوق س.پایا ثروت پویا-د | C19: 4109229 | E19: 115991443868 | G19: 108177223287 | I19: =E19-G19 -> 7814220581 | K19: 40868297 | M19: 1099420008692 | O19: 1081133216953 | Q19: =M19-O19 -> 18286791739
A20: صندوق س. ثبات ویستا -د | C20: 6837283 | E20: 255185185212 | G20: 249395712709 | I20: =E20-G20 -> 5789472503 | K20: 11650416 | M20: 430242592565 | O20: 423235264620 | Q20: =M20-O20 -> 7007327945
... A27: مرابحه عام دولت268-ش.خ070521 | C27: 0 | E27: 0 | G27: 0 | I27: =E27-G27 -> 0 | K27: 5883218 | M27: 4631269209600 | O27: 4620749424152 | Q27: =M27-O27 -> 10519785448
A28: جمع | E28: =SUM(E8:E27) -> 6538249828229 | G28: =SUM(G8:G27) -> 5500429435130 | I28: =SUM(I8:I27) -> 1037820393099 | M28: =SUM(M8:M27) -> 30855983659219 | O28: =SUM(O8:O27) -> 27441650276565 | Q28: =SUM(Q8:Q27) -> 3414333382654

Sheet درآمد ناشی از تغییر قیمت اوراق
A1: صندوق سرمایه‌گذاری اختصاصی بازارگردانی گروه دی
A2: صورت وضعیت درآمدها
A3: برای ماه منتهی به 1405/06/31
A5: درآمد ناشی از تغییر قیمت اوراق بهادار
A6: شرح | C6: طی ماه | K6: از ابتدای سال مالی
C7: تعداد | E7: خالص ارزش فروش | G7: ارزش دفتری | I7: سود و زیان ناشی از تغییر قیمت | K7: تعداد | M7: خالص ارزش فروش | O7: ارزش دفتری | Q7: سود و زیان ناشی از تغییر قیمت
A8: حمل و نقل پتروشیمی( سهامی عام | C8: 9668323 | E8: 161531503245 | G8: 169092926647 | I8: =E8-G8 -> -7561423402 | K8: 9668323 | M8: 161531503245 | O8: 141772818615 | Q8: =M8-O8 -> 19758684630
A9: سرمایه‌گذاری‌بوعلی‌ | C9: 996679022 | E9: 3575358349936 | G9: 2883745458965 | I9: =E9-G9 -> 691612890971 | K9: 996679022 | M9: 3575358349936 | O9: 2110826804308 | Q9: =M9-O9 -> 1464531545628
A10: بیمه دی | C10: 419529468 | E10: 2527840072394 | G10: 2330811078360 | I10: =E10-G10 -> 197028994034 | K10: 419529468 | M10: 2527840072394 | O10: 1777964604196 | Q10: =M10-O10 -> 749875468198
A11: بیمه دانا | C11: 2571483167 | E11: 5629837687986 | G11: 5755816961549 | I11: =E11-G11 -> -125979273563 | K11: 2571483167 | M11: 5629837687986 | O11: 4762391723269 | Q11: =M11-O11 -> 867445964717
A12: تولید نیروی برق دماوند | C12: 399167094 | E12: 5193205725651 | G12: 5772415884357 | I12: =E12-G12 -> -579210158706 | K12: 399167094 | M12: 5193205725651 | O12: 3474241698699 | Q12: =M12-O12 -> 1718964026952
A13: صندوق س. گنجینه یکم آوید-د | C13: 28130000 | E13: 1204841660746 | G13: 1171604261559 | I13: =E13-G13 -> 33237399187 | K13: 28130000 | M13: 1204841660746 | O13: 1169031451432 | Q13: =M13-O13 -> 35810209314
A14: صندوق س سپر سرمایه بیدار- ثابت | C14: 115999000 | E14: 5454580841346 | G14: 5296300593716 | I14: =E14-G14 -> 158280247630 | K14: 115999000 | M14: 5454580841346 | O14: 4662215610197 | Q14: =M14-O14 -> 792365231149
A15: صندوق س آوای فردای زاگرس-ثابت | C15: 10402608 | E15: 442914897426 | G15: 430228395540 | I15: =E15-G15 -> 12686501886 | K15: 10402608 | M15: 442914897426 | O15: 423820324200 | Q15: =M15-O15 -> 19094573226
A16: صندوق س. ثبات ویستا -د | C16: 51734153 | E16: 1947538048254 | G16: 1908816248457 | I16: =E16-G16 -> 38721799797 | K16: 51734153 | M16: 1947538048254 | O16: 1890966616571 | Q16: =M16-O16 -> 56571431683
A17: صندوق س. کارا -د | C17: 4874210 | E17: 180868829426 | G17: 198447950762 | I17: =E17-G17 -> -17579121336 | K17: 4874210 | M17: 180868829426 | O17: 165302540610 | Q17: =M17-O17 -> 15566288816
A18: صندوق س.رشد پایدار آبان-د | C18: 12065324 | E18: 266702126924 | G18: 260422630175 | I18: =E18-G18 -> 6279496749 | K18: 12065324 | M18: 266702126924 | O18: 260019500942 | Q18: =M18-O18 -> 6682625982
A19: صندوق س. نوع دوم نو ویرا -د | C19: 32630466 | E19: 962863538948 | G19: 935072633593 | I19: =E19-G19 -> 27790905355 | K19: 32630466 | M19: 962863538948 | O19: 897003123798 | Q19: =M19-O19 -> 65860415150
... A34: مرابحه عام دولت265-ش.خ070430 | C34: 6000 | E34: 4884656055 | G34: 5014652987 | I34: =E34-G34 -> -129996932 | K34: 6000 | M34: 4884656055 | O34: 5014652987 | Q34: =M34-O34 -> -129996932
A35: جمع | E35: =SUM(E8:E34) -> 50718940505880 | G35: =SUM(G8:G34) -> 48422291824886 | I35: =SUM(I8:I34) -> 2296648680994 | M35: =SUM(M8:M34) -> 50718940505880 | O35: =SUM(O8:O34) -> 38413101677695 | Q35: =SUM(Q8:Q34) -> 12305838828185
